Workbook

Sheet Planilha1
A2: À Câmara Municipal de Bonito/MS
A3: Processo Administrativo nº 016/2026
B5: LOCALIDADE SINAPI CAMPO GRANDE | E5: DATA BASE 09-26 | F5: MUNICÍPIO / UF MUNICÍPIO DE BONITO/MS | I5: BDI
I6: 0.15 | N6: 0.15
A8: Nível | B8: Item | C8: Fonte | D8: Código | E8: Descrição | F8: unidade | G8: Quantidade | H8: Custo unitário sem BDI (R$) | I8: BDI (%) | J8: Custo unitário com BDI (R$) | K8: PREÇO TOTAL
K10: =K11+K14+K19+K24+K26+K29+K37+K39+K41+K43+K45+K95+K156+K159+K162+K164+K166+K168 -> 1929516.8
A11: Nível 2 | B11: 1.1. | E11: SERVIÇOS PRELIMINARES | J11: - | K11: =SUM(K12:K13) -> 5519.4825
A12: Serviço | B12: 1.1.0.1. | C12: SINAPI | D12: 103689 | E12: FORNECIMENTO E INSTALAÇÃO DE PLACA DE OBRA COM CHAPA GALVANIZADA E ESTRUTURA DE MADEIRA. AF_03/2022_PS | F12: m2 | G12: 5 | H12: 456.33 | I12: BDI 1 | J12: =H12+(H12*N6) -> 524.7795 | K12: =J12*G12 -> 2623.8975
A13: Serviço | B13: 1.1.0.2. | C13: SINAPI | D13: 98459 | E13: TAPUME COM TELHA METÁLICA. AF_03/2024 | F13: M2 | G13: 30 | H13: 83.93 | I13: BDI 1 | J13: =H13+(H13*N6) -> 96.5195 | K13: =J13*G13 -> 2895.585
A14: Nível 2 | B14: 1.2. | E14: FUNDAÇÃO | J14: - | K14: =SUM(K15:K18) -> 33462.351
A15: Serviço | B15: 1.2.0.1. | C15: SINAPI | D15: 101175 | E15: ESTACA BROCA DE CONCRETO, DIÂMETRO DE 30CM, ESCAVAÇÃO MANUAL COM TRADO CONCHA, COM ARMADURA DE ARRANQUE. AF_05/2020 | F15: m | G15: 97.5 | H15: 114.12 | I15: BDI 1 | J15: =H15+(H15*N6) -> 131.238 | K15: =J15*G15 -> 12795.705
A16: Serviço | B16: 1.2.0.2. | C16: SINAPI | D16: 96527 | E16: ESCAVAÇÃO MANUAL PARA VIGA BALDRAME OU SAPATA CORRIDA (INCLUINDO ESCAVAÇÃO PARA COLOCAÇÃO DE FÔRMAS). AF_01/2024 | F16: m3 | G16: 49.73 | H16: 98.75 | I16: BDI 1 | J16: =H16+(H16*N6) -> 113.5625 | K16: =J16*G16 -> 5647.4631
A17: Serviço | B17: 1.2.0.3. | C17: SINAPI | D17: 96621 | E17: LASTRO COM MATERIAL GRANULAR, APLICAÇÃO EM BLOCOS DE COROAMENTO, ESPESSURA DE *5 CM*. AF_01/2024 | F17: m3 | G17: 8.13 | H17: 225.72 | I17: BDI 1 | J17: =H17+(H17*N6) -> 259.578 | K17: =J17*G17 -> 2110.3691
A18: Serviço | B18: 1.2.0.4. | C18: SINAPI | D18: 96621 | E18: LASTRO COM MATERIAL GRANULAR, APLICAÇÃO EM BLOCOS DE COROAMENTO, ESPESSURA DE *5 CM*. AF_01/2024 | F18: m3 | G18: 49.73 | H18: 225.72 | I18: BDI 1 | J18: =H18+(H18*N6) -> 259.578 | K18: =J18*G18 -> 12908.814
A19: Nível 2 | B19: 1.3.1 | E19: BLOCO DE COROAMENTO | J19: - | K19: =SUM(K20:K23) -> 17602.65
A20: Serviço | B20: 1.3.0.1. | C20: SINAPI | D20: 92761 | E20: ARMAÇÃO DE PILAR OU VIGA DE ESTRUTURA CONVENCIONAL DE CONCRETO ARMADO UTILIZANDO AÇO CA-50 DE 8,0 MM - MONTAGEM. AF_06/2022 | F20: KG | G20: 431.34 | H20: 13.2 | I20: BDI 1 | J20: =H20+(H20*N6) -> 15.18 | K20: =J20*G20 -> 6547.7412
A21: Serviço | B21: 1.3.0.2. | C21: SINAPI | D21: 92759 | E21: ARMAÇÃO DE PILAR OU VIGA DE ESTRUTURA CONVENCIONAL DE CONCRETO ARMADO UTILIZANDO AÇO CA-60 DE 5,0 MM - MONTAGEM. AF_06/2022 | F21: KG | G21: 140.14 | H21: 14.53 | I21: BDI 1 | J21: =H21+(H21*N6) -> 16.7095 | K21: =J21*G21 -> 2341.6693
A22: Serviço | B22: 1.3.0.3. | C22: SINAPI | D22: 96557 | E22: CONCRETAGEM DE BLOCO DE COROAMENTO OU VIGA BALDRAME, FCK 30 MPA, COM USO DE BOMBA - LANÇAMENTO, ADENSAMENTO E ACABAMENTO. AF_01/2024 | F22: M3 | G22: 8.13 | H22: 813.52 | I22: BDI 1 | J22: =H22+(H22*N6) -> 935.548 | K22: =J22*G22 -> 7606.0052
A23: Serviço | B23: 1.3.0.4. | C23: SINAPI | D23: 96527 | E23: ESCAVAÇÃO MANUAL PARA VIGA BALDRAME OU SAPATA CORRIDA (INCLUINDO ESCAVAÇÃO PARA COLOCAÇÃO DE FÔRMAS). AF_01/2024 | F23: M3 | G23: 9.75 | H23: 98.75 | I23: BDI 1 | J23: =H23+(H23*N6) -> 113.5625 | K23: =J23*G23 -> 1107.2344
A24: Nível 2 | B24: 1.4 | E24: FORMAS | J24: - | K24: =K25 -> 29440.575
A25: Serviço | B25: 1.4.0.1. | C25: SINAPI | D25: 92263 | E25: FABRICAÇÃO DE FÔRMA PARA PILARES E ESTRUTURAS SIMILARES, EM CHAPA DE MADEIRA COMPENSADA RESINADA, E = 17 MM. AF_09/2020 | F25: M2 | G25: 150 | H25: 170.67 | I25: BDI 1 | J25: =H25+(H25*N6) -> 196.2705 | K25: =J25*G25 -> 29440.575
A26: Nível 2 | B26: 1.5 | E26: PISO CONCRETO INTERNO, EXTERNO E CALÇADA | J26: - | K26: =SUM(K27:K28) -> 61729.746
A27: Serviço | B27: 1.5.0.1. | C27: SINAPI | D27: 97111 | E27: EXECUÇÃO DE PAVIMENTO DE CONCRETO ARMADO (PCA), FCK = 30 MPA, ESPESSURA DE 15,0 CM. AF_04/2022 (97111) | F27: M2 | G27: 250.9 | H27: 206 | I27: BDI 1 | J27: =H27+(H27*N6) -> 236.9 | K27: =J27*G27 -> 59438.21
A28: Serviço | B28: 1.5.0.2. | C28: SINAPI | D28: 104658 | E28: PISO PODOTÁTIL DE ALERTA OU DIRECIONAL, DE CONCRETO, ASSENTADO SOBRE ARGAMASSA. AF_03/2024 (104658) | F28: M2 | G28: 9.58 | H28: 208 | I28: BDI 1 | J28: =H28+(H28*N6) -> 239.2 | K28: =J28*G28 -> 2291.536
A29: Nível 2 | B29: 1.6 | E29: COBERTURA ÁREA COMUM | J29: - | K29: =SUM(K30:K35) -> 206470.12
A30: Serviço | B30: 1.6.0.1. | C30: SINAPI | D30: 94216 | E30: TELHAMENTO COM TELHA METÁLICA TERMOACÚSTICA E = 30 MM, COM ATÉ 2 ÁGUAS, INCLUSO IÇAMENTO. AF_07/2019 (94216) | F30: M2 | G30: 266.71 | H30: 225.61 | I30: BDI 1 | J30: =H30+(H30*N6) -> 259.4515 | K30: =J30*G30 -> 69198.31
A31: Serviço | B31: 1.6.0.2. | C31: SINAPI | D31: 100327 | E31: RUFO EXTERNO/INTERNO EM CHAPA DE AÇO GALVANIZADO NÚMERO 26, CORTE DE 33 CM, INCLUSO IÇAMENTO. AF_07/2019 (100327) | F31: M2 | G31: =21.2+12.43+12.43 -> 46.06 | H31: 62.32 | I31: BDI 1 | J31: =H31+(H31*N6) -> 71.668 | K31: =J31*G31 -> 3301.0281
A32: Serviço | B32: 1.6.0.3. | C32: SINAPI | D32: 94228 | E32: CALHA EM CHAPA DE AÇO GALVANIZADO NÚMERO 24, DESENVOLVIMENTO DE 50 CM, INCLUSO TRANSPORTE VERTICAL. AF_07/2019 (94228) | F32: M | G32: 21.2 | H32: 97.04 | I32: BDI 1 | J32: =H32+(H32*N6) -> 111.596 | K32: =J32*G32 -> 2365.8352
A33: Serviço | B33: 1.6.0.4. | C33: SINAPI | D33: 92620 | E33: FABRICAÇÃO E INSTALAÇÃO DE TESOURA INTEIRA EM AÇO, VÃO DE 12 M, PARA TELHA ONDULADA DE FIBROCIMENTO, METÁLICA, PLÁSTICA OU TERMOACÚSTICA, INCLUSO IÇAMENTO, EXCLUSIVE PINTURA. AF_10/2025 (92620) | F33: UNID | G33: 7 | H33: 2346.48 | I33: BDI 1 | J33: =H33+(H33*N6) -> 2698.452 | K33: =J33*G33 -> 18889.164
A34: Serviço | B34: 1.6.0.5. | C34: SINAPI | D34: 92578 | E34: TRAMA DE AÇO COMPOSTA POR RIPAS E CAIBROS PARA TELHADOS DE MAIS DE 2 ÁGUAS PARA TELHA CERÂMICA CAPA-CANAL, INCLUSO TRANSPORTE VERTICAL, EXCLUSIVE PINTURA. AF_10/2025 (92578) | F34: M2 | G34: 266.71 | H34: 70.54 | I34: BDI 1 | J34: =H34+(H34*N6) -> 81.121 | K34: =J34*G34 -> 21635.782
A35: Serviço | B35: 1.6.0.6. | C35: SINAPI | D35: 100764 | E35: VIGA METÁLICA EM PERFIL LAMINADO OU SOLDADO EM AÇO ESTRUTURAL, COM CONEXÕES SOLDADAS, INCLUSOS MÃO DE OBRA, TRANSPORTE E IÇAMENTO UTILIZANDO GUINDASTE - FORNECIMENTO E INSTALAÇÃO. AF_01/2020_PA (100764) | F35: KG | G35: 5000 | H35: 15.84 | I35: BDI 1 | J35: =H35+(H35*N6) -> 18.216 | K35: =J35*G35 -> 91080
A36: Nível 2 | B36: 1.7 | E36: MÓDULOS HABITÁVEIS PRÉ FABRICADOS | J36: -
A37: Nível 2 | B37: 1.7.1 | E37: MÓDULOS COM 3 SALAS | J37: - | K37: =K38 -> 786600
A38: PRODUTO | B38: 1.7.1.1. | C38: COMPOSIÇÃO | E38: Modulo CTT Térmico habitável móvel, obedecendo às seguintes especificações: estrutura fabricado em aço galvanizado,cobertura e paredes de painel isotérmico (aço/aço) interior em PIR, com piso em madeira plastica (pvc de alto tréfego), medidas externas de 12,00 x 3,00 x 3,00 metros (c x l x a) contendo 3 (três) portas de correr de duas folhas em vidro temperado de 10,00mm com medidas internas de 1,62 x 2,10 (l x a) metros e 3 (três) portas de abrir de madeira com 0,80 x 2,10 metros (l x a) com maçaneta, fechadura e chave, contem instalação elétrica com 36 (trinta e seis) pontos de iluminação, 54 (cinquenta e quatro) tomadas duplas de 10 AMP, 6 (SEIS) tomadas duplas de 20 AMP 220V e 6 (seis) tomadas duplas de 20 AMP. Contem 6 (seis) aparelhos de Ar Condicionado Split Hi Wall Inverter Hisense Eco Plus 12000 Btus Frio 220v R-32 SEM WI-FI. INSTALAÇÕES DE REDE DE LÓGICA COMPLETA | F38: unid | G38: 3 | H38: 228000 | I38: BDI 1 | J38: =H38+(H38*N6) -> 262200 | K38: =J38*G38 -> 786600
A39: Nível 2 | B39: 1.7.2 | E39: MÓDULOS COM 2 SALAS | J39: - | K39: =K40 -> 239200
A40: PRODUTO | B40: 1.7.2.1. | C40: COMPOSIÇÃO | E40: Modulo CTT Térmico habitável móvel, obedecendo às seguintes especificações: estrutura fabricado em aço galvanizado,cobertura e paredes de painel isotérmico (aço/aço) interior em PIR, com piso em madeira plastica (pvc de alto tréfego), medidas externas de 12,00 x 3,00 x 3,00 metros (c x l x a) contendo 2 (duas) portas de correr de duas folhas em vidro temperado de 10,00mm com medidas internas de 1,62 x 2,10 (l x a) metros e 2 (duas) portas de abrir de madeira com 0,80 x 2,10 metros (l x a) com maçaneta, fechadura e chave, contem instalação elétrica com 34 (trinta e quatro) pontos de iluminação, 36 (trinta e seis) tomadas duplas de 10 AMP, 6 (SEIS) tomadas duplas de 20 AMP 220V e 6 (seis) tomadas duplas de 20 AMP. Contem 4 (quatro) aparelhos de Ar Condicionado Split Hi Wall Inverter Hisense Eco Plus 12000 Btus Frio 220v R-32 SEM WI-FI. INSTALAÇÕES DE REDE DE LÓGICA COMPLETA. | F40: unid | G40: 1 | H40: 208000 | I40: BDI 1 | J40: =H40+(H40*N6) -> 239200 | K40: =J40*G40 -> 239200
A41: Nível 2 | B41: 1.7.3 | E41: MÓDULO REUNIÃO | J41: - | K41: =K42 -> 233450
A42: PRODUTO | B42: 1.7.3.1. | C42: COMPOSIÇÃO | E42: Modulo CTT Térmico habitável móvel, obedecendo às seguintes especificações: estrutura fabricado em aço galvanizado,cobertura e paredes de painel isotérmico (aço/aço) interior em PIR, com piso em madeira plastica (pvc de alto tréfego), medidas externas de 12,00 x 3,00 x 3,00 metros (c x l x a) contendo 1 (uma) porta de correr de duas folhas em vidro temperado de 10,00mm com medidas internas de 1,62 x 2,10 (l x a) metros e 1 (uma) porta de abrir de madeira com 0,80 x 2,10 metros (l x a) com maçaneta, fechadura e chave, contem instalação elétrica com 24 (vinte e quatro) pontos de iluminação, 31 (trinta e uma) tomadas duplas de 10 AMP, 2 (duas) tomadas duplas de 20 AMP 220V e 2 (duas) tomadas duplas de 20 AMP piso. Contem 2 (dois) aparelhos de Ar Condicionado Split Hi Wall Inverter Elgin Eco III Wi-Fi 24000 Btus Quente e Frio 220v R-32. INSTALAÇÕES DE REDE DE LÓGICA COMPLETA. | F42: unid | G42: 1 | H42: 203000 | I42: BDI 1 | J42: =H42+(H42*N6) -> 233450 | K42: =J42*G42 -> 233450
A43: Nível 2 | B43: 1.7.4 | E43: MÓDULO BANHEIROS (masculino e feminino) | J43: - | K43: =K44 -> 150650
A44: PRODUTO | B44: 1.7.4.1. | C44: COMPOSIÇÃO | E44: Modulo CTT Térmico habitável móvel, obedecendo às seguintes especificações: estrutura fabricado em aço galvanizado,cobertura e paredes de painel isotérmico (aço/aço) interior em PIR, com piso em madeira plastica (pvc de alto tréfego), medidas externas de 6,00 x 3,00 x 3,00 metros (c x l x a) contendo 2 (duas) portas de abertura externa PCD 0,90 x 2,10 (l x a) metros e 5 (cinco) boxes em vidro temperado e adesivado com fechadura para banheiro, contem instalação elétrica com 4 (quatro) pontos de iluminação, 4 (quatro) tomadas duplas de 10 AMP, 2 (duas) tomadas duplas de 20 AMP 220V. WC MASCULINO Contem 1 (uma) cabine PCD, 1 (uma) cabine convencional e 1 (um) mictório. WC FEMININO Contem 1 (uma) cabine PCD, 2 (duas) cabines convencionais. | F44: unid | G44: 1 | H44: 131000 | I44: BDI 1 | J44: =H44+(H44*N6) -> 150650 | K44: =J44*G44 -> 150650
...

Sheet PLANILHA PRINCIPAL
A1: À Câmara Municipal de Bonito/MS
A2: Processo Administrativo nº 016/2026
A3: CONSTRUÇÃO DO PRÉDIO ADMINISTRATIVO DA CÂMARA MUNICIPAL DE BONITO
A5: SINAPI - Sistema Nacional de Pesquisa de Custos e Índices da Construção Civil
A6: RELATÓRIO DE CUSTOS DE COMPOSIÇÕES / Mês de Referência: 08/2026 / Data de emissão: 11/09/2026
A7: Localidade: CAMPO GRANDE - MS | Encargos sociais COM desoneração: Horista: 99,56% Mensalista: 58,74%
I9: BDI -1 | J9: BDI -2
B10: LOCALIDADE SINAPI CAMPO GRANDE | E10: DATA BASE 08-26 | F10: MUNICÍPIO / UF MUNICÍPIO DE BONITO/MS | I10: 0.2741 | J10: 0.1412 | M10: 0.2741 | N10: 0.1412
A12: Nível | B12: Item | C12: Fonte | D12: Código | E12: Descrição | F12: unidade | G12: Quantidade | H12: Custo unitário sem BDI (R$) | I12: BDI (%) | J12: Custo unitário com BDI (R$) | K12: PREÇO TOTAL
K14: =K15+K18+K21+K25+K27+K30+K37+K39+K41+K43+K45+K96+K156+K159+K162+K164+K166+K168+K173+K176+K178+K191 -> 2271088.6
A15: Nível 2 | B15: 1.1. | E15: SERVIÇOS PRELIMINARES | J15: - | K15: =SUM(K16:K17) -> 6409.1052
A16: Serviço | B16: 1.1.0.1. | C16: SINAPI | D16: 103689 | E16: FORNECIMENTO E INSTALAÇÃO DE PLACA DE OBRA COM CHAPA GALVANIZADA E ESTRUTURA DE MADEIRA. AF_03/2022_PS | F16: m2 | G16: 5 | H16: 490.84 | I16: BDI 1 | J16: =H16+(H16*M10) -> 625.37924 | K16: =J16*G16 -> 3126.8962
A17: Serviço | B17: 1.1.0.2. | C17: SINAPI | D17: 98459 | E17: TAPUME COM TELHA METÁLICA. AF_03/2024 | F17: M2 | G17: 30 | H17: 85.87 | I17: BDI 1 | J17: =H17+(H17*M10) -> 109.40697 | K17: =J17*G17 -> 3282.209
A18: Nível 2 | B18: 1.2. | E18: FUNDAÇÃO - ESCAVAÇÃO | J18: - | K18: =SUM(K19:K20) -> 210.491
A19: Serviço | B19: 1.2.0.2. | C19: SINAPI | D19: 96527 | E19: ESCAVAÇÃO MANUAL PARA VIGA BALDRAME OU SAPATA CORRIDA (INCLUINDO ESCAVAÇÃO PARA COLOCAÇÃO DE FÔRMAS). AF_01/2024 | F19: m3 | G19: =fundação!C2 -> 1.08 | H19: 106.7 | I19: BDI 1 | J19: =H19+(H19*M10) -> 135.94647 | K19: =J19*G19 -> 146.82219
A20: Serviço | B20: 1.2.0.3. | C20: SINAPI | D20: 96621 | E20: LASTRO COM MATERIAL GRANULAR, APLICAÇÃO EM BLOCOS DE COROAMENTO, ESPESSURA DE *5 CM*. AF_01/2024 | F20: m3 | G20: =fundação!C8 -> 0.216 | H20: 231.35 | I20: BDI 1 | J20: =H20+(H20*M10) -> 294.76304 | K20: =J20*G20 -> 63.668816
A21: Nível 2 | B21: 1.3.1 | E21: BLOCO DE COROAMENTO | J21: - | K21: =SUM(K22:K24) -> 20375.073
A22: Serviço | B22: 1.3.0.1. | C22: SINAPI | D22: 92762 | E22: ARMAÇÃO DE PILAR OU VIGA DE ESTRUTURA CONVENCIONAL DE CONCRETO ARMADO UTILIZANDO AÇO CA-50 DE 10,0 MM - MONTAGEM. AF_06/2022 | F22: KG | G22: 507.2 | H22: 11.8 | I22: BDI 1 | J22: =H22+(H22*M10) -> 15.03438 | K22: =J22*G22 -> 7625.4375
A23: Serviço | B23: 1.3.0.2. | C23: SINAPI | D23: 92759 | E23: ARMAÇÃO DE PILAR OU VIGA DE ESTRUTURA CONVENCIONAL DE CONCRETO ARMADO UTILIZANDO AÇO CA-60 DE 5,0 MM - MONTAGEM. AF_06/2022 | F23: KG | G23: 67.4 | H23: 13.57 | I23: BDI 1 | J23: =H23+(H23*M10) -> 17.289537 | K23: =J23*G23 -> 1165.3148
A24: Serviço | B24: 1.3.0.3. | C24: SINAPI | D24: 96557 | E24: CONCRETAGEM DE BLOCO DE COROAMENTO OU VIGA BALDRAME, FCK 30 MPA, COM USO DE BOMBA - LANÇAMENTO, ADENSAMENTO E ACABAMENTO. AF_01/2024 | F24: M3 | G24: 10.56 | H24: 861 | I24: BDI 1 | J24: =H24+(H24*M10) -> 1097.0001 | K24: =J24*G24 -> 11584.321
A25: Nível 2 | B25: 1.4 | E25: FORMAS | J25: - | K25: =K26 -> 15253.979
A26: Serviço | B26: 1.4.0.1. | C26: SINAPI | D26: 92263 | E26: FABRICAÇÃO DE FÔRMA PARA PILARES E ESTRUTURAS SIMILARES, EM CHAPA DE MADEIRA COMPENSADA RESINADA, E = 17 MM. AF_09/2020 | F26: M2 | G26: 83.6 | H26: 143.21 | I26: BDI 1 | J26: =H26+(H26*M10) -> 182.46386 | K26: =J26*G26 -> 15253.979
A27: Nível 2 | B27: 1.5 | E27: PISO CONCRETO INTERNO, EXTERNO E CALÇADA | J27: - | K27: =SUM(K28:K29) -> 76930.416
A28: Serviço | B28: 1.5.0.1. | C28: SINAPI | D28: 97111 | E28: EXECUÇÃO DE PAVIMENTO DE CONCRETO ARMADO (PCA), FCK = 30 MPA, ESPESSURA DE 15,0 CM. AF_04/2022 (97111) | F28: M2 | G28: 250.9 | H28: 234 | I28: BDI 1 | J28: =H28+(H28*M10) -> 298.1394 | K28: =J28*G28 -> 74803.175
A29: Serviço | B29: 1.5.0.2. | C29: SINAPI | D29: 104658 | E29: PISO PODOTÁTIL DE ALERTA OU DIRECIONAL, DE CONCRETO, ASSENTADO SOBRE ARGAMASSA. AF_03/2024 (104658) | F29: M2 | G29: 9.58 | H29: 174.28 | I29: BDI 1 | J29: =H29+(H29*M10) -> 222.05015 | K29: =J29*G29 -> 2127.2404
A30: Nível 2 | B30: 1.6 | E30: COBERTURA ÁREA COMUM | J30: - | K30: =SUM(K31:K35) -> 144455.12
A31: Serviço | B31: 1.6.0.1. | C31: SINAPI | D31: 94216 | E31: TELHAMENTO COM TELHA METÁLICA TERMOACÚSTICA E = 30 MM, COM ATÉ 2 ÁGUAS, INCLUSO IÇAMENTO. AF_07/2019 (94216) | F31: M2 | G31: 266.71 | H31: 212.48 | I31: BDI 1 | J31: =H31+(H31*M10) -> 270.72077 | K31: =J31*G31 -> 72203.936
A32: Serviço | B32: 1.6.0.2. | C32: SINAPI | D32: 100327 | E32: RUFO EXTERNO/INTERNO EM CHAPA DE AÇO GALVANIZADO NÚMERO 26, CORTE DE 33 CM, INCLUSO IÇAMENTO. AF_07/2019 (100327) | F32: M | G32: =21.2+12.43+12.43 -> 46.06 | H32: 54.36 | I32: BDI 1 | J32: =H32+(H32*M10) -> 69.260076 | K32: =J32*G32 -> 3190.1191
A33: Serviço | B33: 1.6.0.3. | C33: SINAPI | D33: 94228 | E33: CALHA EM CHAPA DE AÇO GALVANIZADO NÚMERO 24, DESENVOLVIMENTO DE 50 CM, INCLUSO TRANSPORTE VERTICAL. AF_07/2019 (94228) | F33: M | G33: 21.2 | H33: 85.48 | I33: BDI 1 | J33: =H33+(H33*M10) -> 108.91007 | K33: =J33*G33 -> 2308.8934
A34: Serviço | B34: 1.6.0.4. | C34: SINAPI | D34: 100378 | E34: FABRICAÇÃO E INSTALAÇÃO DE TESOURA INTEIRA EM AÇO, VÃO DE 12 M, PARA TELHA ONDULADA DE FIBROCIMENTO, METÁLICA, PLÁSTICA OU TERMOACÚSTICA, INCLUSO IÇAMENTO, EXCLUSIVE PINTURA. AF_10/2025 (100378) | F34: KG | G34: =1209.6168+389.9742 -> 1599.591 | H34: 12.33 | I34: BDI 1 | J34: =H34+(H34*M10) -> 15.709653 | K34: =J34*G34 -> 25129.02
A35: Serviço | B35: 1.6.0.5. | C35: SINAPI | D35: 104314 | E35: TRAMA DE AÇO COMPOSTA POR TERÇAS PARA TELHA METÁLICA OU TERMOACÚSTICA, INCLUSO TRANSPORTE VERTICAL. AF_10/2025 (104314) | F35: KG | G35: =2095.2525+232.83+510.2032 -> 2838.2857 | H35: 11.51 | I35: BDI 1 | J35: =H35+(H35*M10) -> 14.664891 | K35: =J35*G35 -> 41623.15
A36: Nível 2 | B36: 1.7 | E36: MÓDULOS HABITÁVEIS PRÉ FABRICADOS | J36: -
A37: Nível 2 | B37: 1.7.1 | E37: MÓDULOS COM 3 SALAS | J37: - | K37: =K38 -> 780580.8
A38: PRODUTO | B38: 1.7.1.1. | C38: COMPOSIÇÃO | E38: Modulo CTT Térmico habitável móvel, obedecendo às seguintes especificações: estrutura fabricado em aço galvanizado,cobertura e paredes de painel isotérmico (aço/aço) interior em PIR, com piso em madeira plastica (pvc de alto tréfego), medidas externas de 12,00 x 3,00 x 3,00 metros (c x l x a) contendo 3 (três) portas de correr de duas folhas em vidro temperado de 10,00mm com medidas internas de 1,60 x 2,10 (l x a) metros e 3 (três) portas de abrir de madeira com 0,80 x 2,10 metros (l x a) com maçaneta, fechadura e chave, contem instalação elétrica com 36 (trinta e seis) pontos de iluminação, 54 (cinquenta e quatro) tomadas duplas de 10 AMP, 6 (SEIS) tomadas duplas de 20 AMP 220V e 6 (seis) tomadas duplas de 20 AMP. Contem 6 (seis) aparelhos de Ar Condicionado Split Hi Wall Inverter Hisense Eco Plus 12000 Btus Frio 220v R-32 SEM WI-FI. INSTALAÇÕES DE REDE DE LÓGICA COMPLETA | F38: unid | G38: 3 | H38: 228000 | I38: BDI 2 | J38: =H38+(H38*N10) -> 260193.6 | K38: =J38*G38 -> 780580.8
A39: Nível 2 | B39: 1.7.2 | E39: MÓDULOS COM 2 SALAS | J39: - | K39: =K40 -> 237369.6
A40: PRODUTO | B40: 1.7.2.1. | C40: COMPOSIÇÃO | E40: Modulo CTT Térmico habitável móvel, obedecendo às seguintes especificações: estrutura fabricado em aço galvanizado,cobertura e paredes de painel isotérmico (aço/aço) interior em PIR, com piso em madeira plastica (pvc de alto tréfego), medidas externas de 12,00 x 3,00 x 3,00 metros (c x l x a) contendo 2 (duas) portas de correr de duas folhas em vidro temperado de 10,00mm com medidas internas de 1,60 x 2,10 (l x a) metros e 2 (duas) portas de abrir de madeira com 0,80 x 2,10 metros (l x a) com maçaneta, fechadura e chave, contem instalação elétrica com 34 (trinta e quatro) pontos de iluminação, 36 (trinta e seis) tomadas duplas de 10 AMP, 6 (SEIS) tomadas duplas de 20 AMP 220V e 6 (seis) tomadas duplas de 20 AMP. Contem 4 (quatro) aparelhos de Ar Condicionado Split Hi Wall Inverter Hisense Eco Plus 12000 Btus Frio 220v R-32 SEM WI-FI. INSTALAÇÕES DE REDE DE LÓGICA COMPLETA. | F40: unid | G40: 1 | H40: 208000 | I40: BDI 2 | J40: =H40+(H40*N10) -> 237369.6 | K40: =J40*G40 -> 237369.6
A41: Nível 2 | B41: 1.7.3 | E41: MÓDULO REUNIÃO | J41: - | K41: =K42 -> 231663.6
A42: PRODUTO | B42: 1.7.3.1. | C42: COMPOSIÇÃO | E42: Modulo CTT Térmico habitável móvel, obedecendo às seguintes especificações: estrutura fabricado em aço galvanizado,cobertura e paredes de painel isotérmico (aço/aço) interior em PIR, com piso em madeira plastica (pvc de alto tréfego), medidas externas de 12,00 x 3,00 x 3,00 metros (c x l x a) contendo 1 (uma) porta de correr de duas folhas em vidro temperado de 10,00mm com medidas internas de 1,60 x 2,10 (l x a) metros e 1 (uma) porta de abrir de madeira com 0,80 x 2,10 metros (l x a) com maçaneta, fechadura e chave, contem instalação elétrica com 24 (vinte e quatro) pontos de iluminação, 31 (trinta e uma) tomadas duplas de 10 AMP, 2 (duas) tomadas duplas de 20 AMP 220V e 2 (duas) tomadas duplas de 20 AMP piso. Contem 2 (dois) aparelhos de Ar Condicionado Split Hi Wall Inverter Elgin Eco III Wi-Fi 24000 Btus Quente e Frio 220v R-32. INSTALAÇÕES DE REDE DE LÓGICA COMPLETA. | F42: unid | G42: 1 | H42: 203000 | I42: BDI 2 | J42: =H42+(H42*N10) -> 231663.6 | K42: =J42*G42 -> 231663.6
A43: Nível 2 | B43: 1.7.4 | E43: MÓDULO BANHEIROS (masculino e feminino) | J43: - | K43: =K44 -> 149497.2
A44: PRODUTO | B44: 1.7.4.1. | C44: COMPOSIÇÃO | E44: Modulo CTT Térmico habitável móvel, obedecendo às seguintes especificações: estrutura fabricado em aço galvanizado,cobertura e paredes de painel isotérmico (aço/aço) interior em PIR, com piso em madeira plastica (pvc de alto tréfego), medidas externas de 6,00 x 3,00 x 3,00 metros (c x l x a) contendo 2 (duas) portas de abertura externa PCD 0,90 x 2,10 (l x a) metros e 5 (cinco) boxes em vidro temperado e adesivado com fechadura para banheiro, contem instalação elétrica com 4 (quatro) pontos de iluminação, 4 (quatro) tomadas duplas de 10 AMP, 2 (duas) tomadas duplas de 20 AMP 220V. WC MASCULINO Contem 1 (uma) cabine PCD, 1 (uma) cabine convencional e 1 (um) mictório. WC FEMININO Contem 1 (uma) cabine PCD, 1 (uma) cabine convencional. | F44: unid | G44: 1 | H44: 131000 | I44: BDI 2 | J44: =H44+(H44*N10) -> 149497.2 | K44: =J44*G44 -> 149497.2
...

Sheet fundação
A1: SAPATA 1 | B1: 60x60x25 | C1: UNID | F1: PILAR 1 | G1: 20X20X150 | H1: UNID | K1: TOTAL
A2: 12 | B2: =0.6*0.6*0.25 -> 0.09 | C2: =B2*A2 -> 1.08 | D2: M3 | F2: 12 | G2: =0.25*0.25*1.5 -> 0.09375 | H2: =G2*F2 -> 1.125 | I2: M3 | K2: =C2+H2 -> 2.205
A4: FORMA | F4: FORMA
A5: =0.6*0.6*0.25 -> 0.09 | B5: =A5*4 -> 0.36 | C5: =B5*A2 -> 4.32 | D5: M2 | F5: =0.2*0.2*0.25 -> 0.01 | G5: =F5*4 -> 0.04 | H5: =G5*F2 -> 0.48 | I5: M2 | K5: =H5+C5 -> 4.8
A7: LASTRO | F7: LASTRO
A8: =A2 -> 12 | B8: =0.36*0.05 -> 0.018 | C8: =B8*A8 -> 0.216 | D8: M3 | F8: 0 | G8: =0.36*0.05 -> 0.018 | H8: =G8*F8 -> 0 | I8: M3 | K8: =H8+C8 -> 0.216
A10: AÇO CA 50 | B10: KG
A11: =A2 -> 12 | B11: 333.18 | C11: =B11/A11 -> 27.765 | D11: KG | K11: =C11 -> 27.765
A12: =A2 -> 12 | B12: =C11*A12 -> 333.18 | D12: KG
A14: AÇO CA 60 | B14: KG
A15: =A2 -> 12 | B15: 73.92 | C15: =B15/A15 -> 6.16 | D15: KG | K15: =C15 -> 6.16
A16: =A2 -> 12 | B16: =C15*A16 -> 73.92 | D16: KG

Sheet CRONOGRAMA
A1: À Câmara Municipal de Bonito/MS
A3: Processo Administrativo nº 016/2026
A4: CONSTRUÇÃO DO PRÉDIO ADMINISTRATIVO DA CÂMARA MUNICIPAL DE BONITO
A6: LOCALIDADE SINAPI CAMPO GRANDE | D6: DATA BASE 08-26 | E6: MUNICÍPIO / UF MUNICÍPIO DE BONITO/MS | L6: 0.2741 | M6: 0.1412
A8: CRONOGRAMA FÍSICO-FINANCEIRO - CÂMARA MUNICIPAL DE BONITO/MS
A10: Item | B10: Descrição da Etapa | C10: Valor Total (R$) | D10: Mês 1 (%) | E10: Mês 1 (R$) | F10: Mês 2 (%) | G10: Mês 2 (R$)
A11: 1.1 | B11: Serviços Preliminares | C11: ='PLANILHA PRINCIPAL'!K15 -> 6409.1052 | D11: 1 | E11: =C11*D11 -> 6409.1052 | F11: 0 | G11: =C11*F11 -> 0
A12: 1.2 | B12: Fundação | C12: ='PLANILHA PRINCIPAL'!K18 -> 210.491 | D12: 1 | E12: =C12*D12 -> 210.491 | F12: 0 | G12: =C12*F12 -> 0
A13: 1.3.1 | B13: Bloco de Coroamento | C13: ='PLANILHA PRINCIPAL'!K21 -> 20375.073 | D13: 1 | E13: =C13*D13 -> 20375.073 | F13: 0 | G13: =C13*F13 -> 0
A14: 1.4 | B14: Formas | C14: ='PLANILHA PRINCIPAL'!K25 -> 15253.979 | D14: 1 | E14: =C14*D14 -> 15253.979 | F14: 0 | G14: =C14*F14 -> 0
A15: 1.5 | B15: Piso Concreto Interno, Ext. e Calçada | C15: ='PLANILHA PRINCIPAL'!K27 -> 76930.416 | D15: 0.8 | E15: =C15*D15 -> 61544.333 | F15: 0.2 | G15: =C15*F15 -> 15386.083
A16: 1.6 | B16: Cobertura Área Comum e Brises | C16: ='PLANILHA PRINCIPAL'!K30 -> 144455.12 | D16: 0.7 | E16: =C16*D16 -> 101118.58 | F16: 0.3 | G16: =C16*F16 -> 43336.536
A17: 1.7.1 | B17: Módulos com 3 Salas | C17: ='PLANILHA PRINCIPAL'!K37 -> 780580.8 | D17: 0.7 | E17: =C17*D17 -> 546406.56 | F17: 0.3 | G17: =C17*F17 -> 234174.24
A18: 1.7.2 | B18: Módulos com 2 Salas | C18: ='PLANILHA PRINCIPAL'!K39 -> 237369.6 | D18: 0.7 | E18: =C18*D18 -> 166158.72 | F18: 0.3 | G18: =C18*F18 -> 71210.88
A19: 1.7.3 | B19: Módulo Reunião | C19: ='PLANILHA PRINCIPAL'!K41 -> 231663.6 | D19: 0.7 | E19: =C19*D19 -> 162164.52 | F19: 0.3 | G19: =C19*F19 -> 69499.08
A20: 1.7.4 | B20: Módulo Banheiros | C20: ='PLANILHA PRINCIPAL'!K43 -> 149497.2 | D20: 0.5 | E20: =C20*D20 -> 74748.6 | F20: 0.5 | G20: =C20*F20 -> 74748.6
A21: 1.8 | B21: Elétrica Geral (Entrada e Comum) | C21: ='PLANILHA PRINCIPAL'!K45 -> 57196.332 | D21: 0.4 | E21: =C21*D21 -> 22878.533 | F21: 0.6 | G21: =C21*F21 -> 34317.799
A22: 1.9 | B22: Hidráulica Geral e Pluviais | C22: ='PLANILHA PRINCIPAL'!K96 -> 32670.774 | D22: 0.5 | E22: =C22*D22 -> 16335.387 | F22: 0.5 | G22: =C22*F22 -> 16335.387
A23: 1.10 | B23: Serviços Complementares | C23: ='PLANILHA PRINCIPAL'!K156 -> 972.36891 | D23: 0 | E23: =C23*D23 -> 0 | F23: 1 | G23: =C23*F23 -> 972.36891
A24: 1.11 | B24: Administração Local | C24: ='PLANILHA PRINCIPAL'!K159 -> 69933.31 | D24: 0.5 | E24: =C24*D24 -> 34966.655 | F24: 0.5 | G24: =C24*F24 -> 34966.655
A25: 1.12 | B25: Fachada em ACM com a Logo | C25: ='PLANILHA PRINCIPAL'!K162 -> 31852.5 | D25: 0 | E25: =C25*D25 -> 0 | F25: 1 | G25: =C25*F25 -> 31852.5
A26: 1.13 | B26: Porta de Entrada Fachada | C26: ='PLANILHA PRINCIPAL'!K164 -> 4503.7926 | D26: 0 | E26: =C26*D26 -> 0 | F26: 1 | G26: =C26*F26 -> 4503.7926
A27: 1.14 | B27: Elemento Vazado Fachada | C27: ='PLANILHA PRINCIPAL'!K166 -> 7256.3506 | D27: 0 | E27: =C27*D27 -> 0 | F27: 1 | G27: =C27*F27 -> 7256.3506
A28: 1.15 | B28: Cobertura Fachada | C28: ='PLANILHA PRINCIPAL'!K168 -> 9445.6558 | D28: 0 | E28: =C28*D28 -> 0 | F28: 1 | G28: =C28*F28 -> 9445.6558
A29: 1.16 | B29: Escada Metálica com Guarda-Corpo | C29: ='PLANILHA PRINCIPAL'!K173 -> 68302.104 | D29: 0.7 | E29: =C29*D29 -> 47811.473 | F29: 0.3 | G29: =C29*F29 -> 20490.631
A30: 1.17 | B30: Pintura Cobertura | C30: ='PLANILHA PRINCIPAL'!K176 -> 19083.439 | D30: 0.5 | E30: =C30*D30 -> 9541.7195 | F30: 0.5 | G30: =C30*F30 -> 9541.7195
A31: 1.18 | B31: Mobiliário | C31: ='PLANILHA PRINCIPAL'!K178 -> 223413.87 | D31: 0 | E31: =C31*D31 -> 0 | F31: 1 | G31: =C31*F31 -> 223413.87
A32: 1.19 | B32: ='PLANILHA PRINCIPAL'!E191 -> BRISES E PILARES DE SUSTENTAÇÃO | C32: ='PLANILHA PRINCIPAL'!K191 -> 83712.705 | D32: 0 | E32: =C32*D32 -> 0 | F32: 1 | G32: =C32*F32 -> 83712.705
B33: TOTAL GERAL | C33: =SUM(C11:C32) -> 2271088.6 | D33: =E33/C33 -> 0.5662147 | E33: =SUM(E11:E32) -> 1285923.7 | F33: =G33/C33 -> 0.4337853 | G33: =SUM(G11:G32) -> 985164.85
C37: ____________________________
C38: GAMEIRO ARQUITETURA

Sheet 1-COMP. CX. ELET
A1: COMPOSIÇÃO DE PREÇO 01 - (material + instalação) | Base SINAPI 08/2026 - MS
A2: .
A3: Regime: | B3: COM | C3: <- SEM ou COM desoneração (afeta mão de obra e argamassa)
A5: Preços de referência - SINAPI 08/2026 MS (relatório de composições)
A6: Código | B6: Descrição | C6: Un. | D6: SEM deson. (R$) | E6: COM deson. (R$) | F6: Regime escolhido (R$)
A7: 88264 | B7: ELETRICISTA COM ENCARGOS COMPLEMENTARES | C7: H | D7: 30 | E7: 28.26 | F7: =IF($B$3="COM",E7,D7) -> 28.26
A8: 88247 | B8: AUXILIAR DE ELETRICISTA COM ENCARGOS COMPLEMENTARES | C8: H | D8: 24.74 | E8: 23.4 | F8: =IF($B$3="COM",E8,D8) -> 23.4
A9: 88629 | B9: ARGAMASSA TRAÇO 1:3 (CIMENTO E AREIA MÉDIA ÚMIDA), PREPARO MANUAL. AF_07/2026 | C9: M3 | D9: 801.37 | E9: 785.48 | F9: =IF($B$3="COM",E9,D9) -> 785.48
A12: ITEM 1
A13: Código | B13: Componente | C13: Un. | D13: Coeficiente | E13: Preço unit. (R$) | F13: Custo (R$) | G13: Fonte do preço
A14: (insumo) | B14: CAIXA DE PASSAGEM EMBUTIR BRANCA 20 X 20 CM MORATORI 203B AGUIA AG-CPE20 ANDALUZ 56901 ND METAL 1017 | C14: UN | D14: 1 | E14: 26.5 | F14: =IF(AND(ISNUMBER(D14),ISNUMBER(E14)),D14*E14,0) -> 26.5 | G14: Cotação em Campo Grande 09/26
A15: 88264 | B15: ELETRICISTA COM ENCARGOS COMPLEMENTARES | C15: H | D15: 0.95 | E15: =$F$7 -> 28.26 | F15: =IF(AND(ISNUMBER(D15),ISNUMBER(E15)),D15*E15,0) -> 26.847 | G15: SINAPI MS 08/2026
A16: 88247 | B16: AUXILIAR DE ELETRICISTA COM ENCARGOS COMPLEMENTARES | C16: H | D16: 0.95 | E16: =$F$8 -> 23.4 | F16: =IF(AND(ISNUMBER(D16),ISNUMBER(E16)),D16*E16,0) -> 22.23 | G16: SINAPI MS 08/2026
A17: 88629 | B17: ARGAMASSA TRAÇO 1:3 (fixação da caixa) | C17: M3 | D17: 0.04 | E17: =$F$9 -> 785.48 | F17: =IF(AND(ISNUMBER(D17),ISNUMBER(E17)),D17*E17,0) -> 31.4192 | G17: SINAPI MS 08/2026
E18: TOTAL (R$) | F18: =SUM(F14:F17) -> 106.9962
A20: ITEM 2
A21: Código | B21: Componente | C21: Un. | D21: Coeficiente | E21: Preço unit. (R$) | F21: Custo (R$) | G21: Fonte do preço
A22: (insumo) | B22: CAIXA DE PASSAGEM EMBUTIR BRANCA 31 X 31 CM MORATORI 204B AGUIA AG-CPE30 ANDALUZ 01795 ND METAL 1019 | C22: UN | D22: 1 | E22: 57.42 | F22: =IF(AND(ISNUMBER(D22),ISNUMBER(E22)),D22*E22,0) -> 57.42 | G22: Cotação em Campo Grande 09/26
A23: 88264 | B23: ELETRICISTA COM ENCARGOS COMPLEMENTARES | C23: H | D23: 0.95 | E23: =$F$7 -> 28.26 | F23: =IF(AND(ISNUMBER(D23),ISNUMBER(E23)),D23*E23,0) -> 26.847 | G23: SINAPI MS 08/2026
A24: 88247 | B24: AUXILIAR DE ELETRICISTA COM ENCARGOS COMPLEMENTARES | C24: H | D24: 0.95 | E24: =$F$8 -> 23.4 | F24: =IF(AND(ISNUMBER(D24),ISNUMBER(E24)),D24*E24,0) -> 22.23 | G24: SINAPI MS 08/2026
A25: 88629 | B25: ARGAMASSA TRAÇO 1:3 (fixação da caixa) | C25: M3 | D25: =0.31*0.31 -> 0.0961 | E25: =$F$9 -> 785.48 | F25: =IF(AND(ISNUMBER(D25),ISNUMBER(E25)),D25*E25,0) -> 75.484628 | G25: SINAPI MS 08/2026
E26: TOTAL (R$) | F26: =SUM(F22:F25) -> 181.98163
A28: ITEM 3
A29: Código | B29: Componente | C29: Un. | D29: Coeficiente | E29: Preço unit. (R$) | F29: Custo (R$) | G29: Fonte do preço
A30: (insumo) | B30: CAIXA DE PASSAGEM EMBUTIR BRANCA 41 X 41 CM MORATORI 205B ANDALUZ62299 ND METAL 1020 | C30: UN | D30: 1 | E30: 72.91 | F30: =IF(AND(ISNUMBER(D30),ISNUMBER(E30)),D30*E30,0) -> 72.91 | G30: Cotação em Campo Grande 09/26
A31: 88264 | B31: ELETRICISTA COM ENCARGOS COMPLEMENTARES | C31: H | D31: 0.95 | E31: =$F$7 -> 28.26 | F31: =IF(AND(ISNUMBER(D31),ISNUMBER(E31)),D31*E31,0) -> 26.847 | G31: SINAPI MS 08/2026
A32: 88247 | B32: AUXILIAR DE ELETRICISTA COM ENCARGOS COMPLEMENTARES | C32: H | D32: 0.95 | E32: =$F$8 -> 23.4 | F32: =IF(AND(ISNUMBER(D32),ISNUMBER(E32)),D32*E32,0) -> 22.23 | G32: SINAPI MS 08/2026
A33: 88629 | B33: ARGAMASSA TRAÇO 1:3 (fixação da caixa) | C33: M3 | D33: =0.41*0.41 -> 0.1681 | E33: =$F$9 -> 785.48 | F33: =IF(AND(ISNUMBER(D33),ISNUMBER(E33)),D33*E33,0) -> 132.03919 | G33: SINAPI MS 08/2026
E34: TOTAL (R$) | F34: =SUM(F30:F33) -> 254.02619
A36: ITEM 4
A37: Código | B37: Componente | C37: Un. | D37: Coeficiente | E37: Preço unit. (R$) | F37: Custo (R$) | G37: Fonte do preço
A38: (insumo) | B38: Quadro distrib. chapa pintada - embutir - Barramento trifásico disj. geral - DIN Cap. 70 disj. unip. - In barr. 225A | C38: UN | D38: 1 | E38: 1310.14 | F38: =IF(ISNUMBER(E38),D38*E38,0) -> 1310.14 | G38: Cotação em Campo Grande 09/26
A39: 88264 | B39: ELETRICISTA COM ENCARGOS COMPLEMENTARES | C39: H | D39: 24 | E39: =IF($B$3="COM",28.26,30) -> 28.26 | F39: =IF(ISNUMBER(D39),D39*E39,0) -> 678.24 | G39: SINAPI MS 08/2026
A40: 88247 | B40: AUXILIAR DE ELETRICISTA COM ENCARGOS COMPLEMENTARES | C40: H | D40: 24 | E40: =IF($B$3="COM",23.4,24.74) -> 23.4 | F40: =IF(ISNUMBER(D40),D40*E40,0) -> 561.6 | G40: SINAPI MS 08/2026
B41: TOTAL (R$) | F41: =SUM(F38:F40) -> 2549.98
A43: ITEM 5
A44: Código | B44: Componente | C44: Un. | D44: Coeficiente | E44: Preço unit. (R$) | F44: Custo (R$) | G44: Fonte do preço
A45: (insumo) | B45: Plafon LED 36W Starbright Sobrepor Teto 40x40 Branco Neutro - COR Preto | C45: UN | D45: 1 | E45: 60.85 | F45: =IF(ISNUMBER(E45),D45*E45,0) -> 60.85 | G45: Cotação em Campo Grande 09/26
A46: 88264 | B46: ELETRICISTA COM ENCARGOS COMPLEMENTARES | C46: H | D46: 0.82 | E46: =IF($B$3="COM",28.26,30) -> 28.26 | F46: =IF(ISNUMBER(D46),D46*E46,0) -> 23.1732 | G46: SINAPI MS 08/2026
A47: 88247 | B47: AUXILIAR DE ELETRICISTA COM ENCARGOS COMPLEMENTARES | C47: H | D47: 0.82 | E47: =IF($B$3="COM",23.4,24.74) -> 23.4 | F47: =IF(ISNUMBER(D47),D47*E47,0) -> 19.188 | G47: SINAPI MS 08/2026
...
